Workbook

Sheet Hergebruikfiche
A1: HERGEBRUIKFICHE | B1: Benaming element | H1: HFX
A2: Project | B2: Naam
B3: Adres
B4: Postcode Gemeente
A5: Foto's materiaal / element
A6: Element | B6: Beschrijf het materiaal / element / toepassing waarop deze fiche betrekking heeft (bv. ‘blauwe marmeren vloertegels’)
A7: Elementengroep | B7: Kies een elementengroep voor hergebruik
A8: Element info | B8: Aantal | C8: aantal | D8: eenheid | E8: Gewicht | G8: gewicht | H8: ton
A9: Afmetingen | B9: Lengte | D9: Breedte | G9: Dikte / Hoogte
B10: lengte | C10: eenheid | D10: breedte | E10: eenheid | G10: hoogte | H10: eenheid
A11: Plaatsbepaling | B11: Beschrijf éénduidig de locatie(s) van het element met hergebruikpotentieel (gebouw, verdieping, lokaal)
A12: Bevestiging | B12: Beschrijf de manier waarop het materiaal / element bevestigd is (losliggend, verlijmd, vernageld, geschroefd, gecementeerd,…)
A13: Staat van element | B13: Esthetisch | C13: Kies een item. | E13: Technisch | G13: Kies een item.
B14: Geef hier eventuele toelichting bij de esthetische en technische afwijkingen
A15: Bijkomende info | B15: Vermeld hier eventuele info over type, merk, technische eigenschappen, leeftijd of andere historische gegevens
A16: Ontmanteling | B16: Waakzaamheid voor gevaarlijke stoffen | E16: FALSE | F16: bv. nabij asbest, mogelijks loodverf,...
B17: Demontagetest uitgevoerd | E17: FALSE | F17: bv. test sterk aangeraden, eventueel verliespercentage,...
B18: Technische fiche beschikbaar | E18: FALSE | F18: bv. FCRBE, zie bijlage,...
B19: Aanbeveling certificatie en proeven | E19: FALSE | F19: bv. structurele, thermische eigenschappen
A20: Voorgestelde recuperatiefase | B20: Geef aan welke fase is aangewezen om het element te recupereren (voorontmanteling, ontmanteling, sloop)
A21: Voorgestelde bestemming | B21: Geef aan welke bestemming(en) aangewezen zijn voor het herbruikbare element (hergebruik in situ / ex situ, materialenbank, hergebruikplatform, (professionele) handelaars, donatie,…)
A22: Opmerkingen | B22: Optioneel advies met betrekking tot: werf, element, werkwijze, transport, stockage, behandeling, risico's, voorgestelde toepassing,...
A23: Eigenaar element | B23: Geef de volledige naam van de eigenaar van het element
A24: Contact | B24: Geef de contactgegevens van de eigenaar van het element (email/gsm)
A25: Datum opmaak | B25: Vermeld de datum van opmaak fiche
A26: Vermoedelijke start werken | B26: Indien gekend, geef de vermoedelijke datum start der werken
A27: Opmerkingen van de sloper | B27: Optionele opmerkingen van de sloper kunnen hier worden toegevoegd
A30: DISCLAIMER: De informatie die de sloopdeskundige op de fiche vermeld is naar best vermogen en zo accuraat mogelijk voorgesteld. Bij het hergebruik van materialen dient een bepaald verliespercentage beschouwd te worden, dat afhangt van type bevestiging en materiaal. De vermelde hoeveelheden zijn indicatief en vormen een eerste inschatting. Suggesties voor hergebruik dienen steeds getoetst te worden aan de praktijk.

Sheet Recyclagefiche
A1: RECYCLAGEFICHE | B1: Gipshoudende materialen | G1: RFX
A2: Project | B2: Naam
B3: Adres
B4: Postcode Gemeente
B5: Foto's materiaal in situ
A6: Materiaal | B6: =VLOOKUP(B1,'info sheet recyclagefiches'!A:G,6,FALSE) -> Gipshoudende materialen: gipsblokken en -platen | F6: EURALcode | G6: =VLOOKUP(B1,'info sheet recyclagefiches'!A:E,4,FALSE) -> 17 08 02
A7: Toepassing | B7: Beschrijf de toepassing van het materiaal (functie, grootte, vorm, kleur, staat,...)
A8: Materiaal info | B8: Aantal | C8: aantal | D8: eenheid | E8: Gewicht | F8: gewicht | G8: ton
A9: Plaatsbepaling | B9: Beschrijf éénduidig de locatie(s) van het materiaal met hoogwaardig recyclagepotentieel (gebouw, verdieping, lokaal)
A10: Bevestiging | B10: Beschrijf de manier waarop het materiaal bevestigd is (losliggend, verlijmd, vernageld, geschroefd, gecementeerd,…)
A11: Impact hoogwaardige | B11: Recycled content in nieuw product | E11: CO2-besparing
A12: recyclage* | C12: =VLOOKUP(B1,'info sheet recyclagefiches'!A:I,7,FALSE) -> ●●○○ | F12: =VLOOKUP(B1,'info sheet recyclagefiches'!A:J,8,FALSE) -> ●●○○
A13: Potentiële afzetkanalen & acceptatiecriteria | B13: Een overzicht van afzetkanalen voor de recyclage van bouw- en sloopafval samen met acceptatiecriteria van de verwerkers en/of producenten is te vinden op https://www.bouwensloopafval.be/
A14: Opmerkingen | B14: =VLOOKUP(B1,'info sheet recyclagefiches'!A:L,10,FALSE) -> Geen cellenbeton, gipsplaten met paardenhaar, isolatiemateriaal, aluminium of lood. Geen gipspleister uit sloop.
A15: Gevaarlijke stoffen | B15: Let op voor: | C15: =VLOOKUP(B1,'info sheet recyclagefiches'!A:N,11,FALSE) -> Asbest | F15: Kies een item.
A16: Andere | B16: Optioneel advies met betrekking tot: werf, materiaal, werkwijze, transport, stockage, risico's,...
A17: Eigenaar materiaal | B17: Geef de volledige naam van de eigenaar van het materiaal
A18: Contact | B18: Geef de contactgegevens van de eigenaar van het materiaal (email/gsm)
A19: Datum opmaak | B19: Vermeld de datum van opmaak fiche
A20: Vermoedelijke start werken | B20: Indien gekend, geef de vermoedelijke datum start der werken
A21: Opmerkingen van de sloper | B21: Optionele opmerkingen van de sloper kunnen hier worden toegevoegd
A24: *Recycled content (in %: 1-25, 25-50, 50-75, 75-100) en de CO₂-besparing (in kg CO₂ per ton gerecycled materiaal: 10-100, 100-1000, 1000-5000, 5000+) zijn naar best vermogen ingeschat op basis van input van diverse materiaalproducenten
A26: DISCLAIMER: De informatie die wordt aangeboden is gebaseerd op verschillende bronnen en naar best vermogen en zo accuraat mogelijk voorgesteld. De vermelde hoeveelheden zijn indicatief en vormen een eerste inschatting. Het is steeds mogelijk dat er door wijzigende omstandigheden fouten in de informatie zijn geslopen. Tracimat kan hiervoor niet verantwoordelijk worden gesteld.

Sheet info sheet recyclagefiches
A1: Materiaal | B1: pilot | C1: Publicatie | D1: EURAL code | E1: Kolom1 | F1: Benaming materialenlijst | G1: Recycled content | H1: CO2besparing | I1: link bouw en sloopafval | J1: Opmerkingen | K1: Waarschuwing gevaarlijke materialen | N1: Kies een elementengroep voor hergebruik
A2: Roofing bitumen | C2: 45839 | D2: 17 03 02 | F2: Bitumineuze mengsels: roofing | G2: ●○○○ | H2: ●○○○ | I2: https://www.bouwensloopafval.be/meer-informatie/dakbitumen/r/rec9CVgWxKJuTP1HW | J2: Lostrekken en ontdoen van hellingschape, isolatie, metalen en plastic (dakprofielen). Geen roofing met witte verf. | K2: Teer en Asbest | N2: Betonnen elementen
A3: Gemengd vlakglas | C3: 45839 | D3: 17 02 02 | F3: Glas: gemengd vlakglas | G3: ●●○○ | H3: ●●○○ | I3: https://www.bouwensloopafval.be/meer-informatie/vlakglas/r/recaBtj3k8fHH9GUF | J3: Glas demonteren uit kaders. Verzamelen in (gesloten) containers zonder vervuiling. Niet alle types glas worden bij elke verwerker geaccepteerd. | K3: Asbesthoudende mastiek | N3: Binnenschrijnwerk
A4: Gipshoudende materialen | C4: 45839 | D4: 17 08 02 | F4: Gipshoudende materialen: gipsblokken en -platen | G4: ●●○○ | H4: ●●○○ | I4: https://www.bouwensloopafval.be/meer-informatie/gips/r/recQEWneWwDX7XHMa | J4: Geen cellenbeton, gipsplaten met paardenhaar, isolatiemateriaal, aluminium of lood. Geen gipspleister uit sloop. | K4: Asbest | N4: Buitenschrijnwerk
A5: Hout | C5: 45839 | D5: 17 02 01 | F5: Hout: onbehandeld hout (A) en behandeld hout (B) | G5: ●●●● | H5: ●●●○ | I5: https://www.bouwensloopafval.be/meer-informatie/niet+verontreinigd+behandeld+houtafval/r/recja2S0syLgb6kh9 | J5: Nagels toegestaan. Geen rot of verbrand hout, tropisch hardhout, bamboe, MDF, bekistingsmateriaal,… | K5: C-hout | N5: Dakbedekking
A6: Aluminium buitenschrijnwerk | C6: 45839 | D6: 17 04 02 | F6: Metaal: aluminium: buitenschrijnwerk | G6: ●●●● | H6: ●●●● | I6: https://www.bouwensloopafval.be/meer-informatie/aluminium/r/recl07qJGQ5EhLtNR | J6: Buitenschrijnwerk ontdoen van glas en isolatie. Thermisch onderbroken profielen apart inzamelen. Geen stoorstoffen zoals cement, hout, isolatie,… | K6: Asbesthoudende mastiek | N6: Decoratieve elementen
A7: PVC buitenschrijnwerk | C7: 45839 | D7: 17 02 03 | F7: Kunststoffen: harde PVC: buitenschrijnwerk | G7: ●●○○ | H7: ●●●○ | I7: https://www.bouwensloopafval.be/meer-informatie/pvc+profielen/r/recpDJHa0346dns1b | J7: Buitenschrijnwerk ontdoen van glas en isolatie. Geen bevuiling met zand of modder. | K7: Asbesthoudende mastiek | N7: Dorpels, drempels en treden van steen
A8: Minerale isolatie: Glaswol | C8: 45839 | D8: 17 06 04 | F8: Isolatiemateriaal: mineraal: glaswol | G8: ●○○○ | H8: ●○○○ | I8: https://www.bouwensloopafval.be/meer-informatie/glaswol/r/recEo2I7NdbWeId0i | J8: Geen glaswolvreemde, stoffige, inerte of vloeibare materialen. Droog bewaren. Voor transport over lange afstanden wol persen (balen of perscontainer). | K8: / | N8: Gevelafwerking
A9: Minerale isolatie: Rotswol | C9: 45839 | D9: 17 06 04 | F9: Isolatiemateriaal: mineraal: rotswol | G9: ●●○○ | H9: ●○○○ | I9: https://www.bouwensloopafval.be/meer-informatie/rotswol/r/recSZIDQHOJipd6pJ | J9: Geen rotswolvreemde, stoffige, inerte of vloeibare materialen. Droog bewaren. | K9: / | N9: Houten balken en timmerhout
A10: Tapijttegels | C10: 45839 | D10: 20 01 11 | F10: Textiel: vloerbedekking | G10: ●●●● | H10: ●●●○ | I10: https://www.bouwensloopafval.be/meer-informatie/tapijttegels/r/recjxTQGOCgp2q4VO | J10: Geen vast verlijmde tapijttegels. Vermijd vervuiling. Gestapeld inzamelen. | K10: / | N10: Isolatie
A11: Homogene vinyl | C11: 45839 | D11: 17 02 03 | F11: Kunststoffen: vinyl | G11: ●●○○ | H11: ●●●○ | I11: https://www.bouwensloopafval.be/meer-informatie/vinyl/r/rec6hlhmG0oSxncN4 | J11: Geen linoleum of heterogeen vinyl uit meerdere lagen. Ontdoen van grove chaperesten. Vinyl te testen op ftalaten (weekmakers) door producent. | K11: Asbest | N11: Massieve baksteen
A12: Linoleum | C12: 45839 | D12: 17 09 02 | F12: Linoleum: vloerbedekking | G12: ●●○○ | H12: ●●●○ | I12: https://www.bouwensloopafval.be/meer-informatie/linoleum/r/recDjRsrZTvarVvQp | J12: Geen vinyl. Ontdoen van grove chaperesten. | K12: Asbesthoudende lijm | N12: Plafond- en wandsystemen
O13: Radiatoren
O14: Sanitair | U14: afbeelding roofing | AB14: afbeelding gipshoudende materialen | AI14: afbeelding aluminium buitenschrijnwerk | AQ14: afbeelding glaswol | AW14: afbeelding tapijttegels | BB14: afbeelding linoleum
O15: Staalstructuur
O16: Technische installaties
O17: Technische valse vloeren
O18: Terreininrichting
O19: Terreinverhardingen
O20: Trappen en balustrades
O21: Vast meubilair
O22: Verlichtingstoestellen
O23: Vloerbedekking
O24: Wandbekleding
O25: Overige
U32: afbeelding gemengd vlakglas | AB32: afbeelding hout | AI32: afbeelding pvc buitenschrijnwerk | AQ32: afbeelding rotswol | AW32: afbeelding homogene vinyl

Sheet RF roofing
A1: RECYCLAGEFICHE | B1: Roofing bitumen | G1: RFX
A2: Project | B2: Naam
B3: Adres
B4: Postcode Gemeente
A5: #VALUE! | B5: Foto's materiaal in situ
A6: Materiaal | B6: =VLOOKUP(B1,'info sheet recyclagefiches'!A:G,6,FALSE) -> Bitumineuze mengsels: roofing | F6: EURALcode | G6: =VLOOKUP(B1,'info sheet recyclagefiches'!A:E,4,FALSE) -> 17 03 02
A7: Toepassing | B7: Beschrijf de toepassing van het materiaal (functie, grootte, staat, aantal lagen...) Indien gekend, geef aan over welk type roofing het gaat (APP of SBS)
A8: Materiaal info | B8: Aantal | C8: aantal | D8: eenheid | E8: Gewicht | F8: gewicht | G8: ton
A9: Plaatsbepaling | B9: Beschrijf éénduidig de locatie(s) van het materiaal met hoogwaardig recyclagepotentieel (gebouw, verdieping, lokaal)
A10: Bevestiging | B10: Beschrijf de manier waarop het materiaal bevestigd is (gebrand, losliggend, verlijmd, vernageld, geschroefd, gecementeerd,…)
A11: Impact hoogwaardige | B11: Recycled content in nieuw product* | E11: CO2-besparing**
A12: recyclage | C12: =VLOOKUP(B1,'info sheet recyclagefiches'!A:I,7,FALSE) -> ●○○○ | F12: =VLOOKUP(B1,'info sheet recyclagefiches'!A:J,8,FALSE) -> ●○○○
A13: Potentiële afzetkanalen & acceptatiecriteria | B13: Een overzicht van afzetkanalen voor de recyclage van bouw- en sloopafval samen met acceptatiecriteria van de verwerkers en/of producenten is te vinden op https://www.bouwensloopafval.be/
A14: Opmerkingen | B14: =VLOOKUP(B1,'info sheet recyclagefiches'!A:L,10,FALSE) -> Lostrekken en ontdoen van hellingschape, isolatie, metalen en plastic (dakprofielen). Geen roofing met witte verf.
A15: Gevaarlijke stoffen | B15: Let op voor: | C15: =VLOOKUP(B1,'info sheet recyclagefiches'!A:N,11,FALSE) -> Teer en Asbest | F15: Kies een item.
A16: Andere | B16: Optioneel advies met betrekking tot: werf, materiaal, werkwijze, transport, stockage, risico's,...
A17: Eigenaar materiaal | B17: Geef de volledige naam van de eigenaar van het materiaal
A18: Contact | B18: Geef de contactgegevens van de eigenaar van het materiaal (email/gsm)
A19: Datum opmaak | B19: Vermeld de datum van opmaak fiche
A20: Vermoedelijke start werken | B20: Indien gekend, geef de vermoedelijke datum start der werken
A21: Opmerkingen van de sloper | B21: Optionele opmerkingen van de sloper kunnen hier worden toegevoegd
A24: *Recycled content (in %: 1-25, 25-50, 50-75, 75-100) en de CO₂-besparing (in kg CO₂ per ton gerecycled materiaal: 10-100, 100-1000, 1000-5000, 5000+) zijn naar best vermogen ingeschat op basis van input van diverse materiaalproducenten
A26: DISCLAIMER: De informatie die wordt aangeboden is gebaseerd op verschillende bronnen en naar best vermogen en zo accuraat mogelijk voorgesteld. De vermelde hoeveelheden zijn indicatief en vormen een eerste inschatting. Het is steeds mogelijk dat er door wijzigende omstandigheden fouten in de informatie zijn geslopen. Tracimat kan hiervoor niet verantwoordelijk worden gesteld.

Sheet RF vlakglas
A1: RECYCLAGEFICHE | B1: Gemengd vlakglas | G1: RFX
A2: Project | B2: Naam
B3: Adres
B4: Postcode Gemeente
A5: #VALUE! | B5: Foto's materiaal in situ
A6: Materiaal | B6: =VLOOKUP(B1,'info sheet recyclagefiches'!A:G,6,FALSE) -> Glas: gemengd vlakglas | F6: EURALcode | G6: =VLOOKUP(B1,'info sheet recyclagefiches'!A:E,4,FALSE) -> 17 02 02
A7: Toepassing | B7: Beschrijf de toepassing van het materiaal (functie, grootte, vorm, kleur, staat,…) Beschrijf ook het type beglazing (enkel/dubbel/driedubbel, gelaagd, met coating,…)
A8: Materiaal info | B8: Aantal | C8: aantal | D8: eenheid | E8: Gewicht | F8: gewicht | G8: ton
A9: Plaatsbepaling | B9: Beschrijf éénduidig de locatie(s) van het materiaal met hoogwaardig recyclagepotentieel (gebouw, verdieping, lokaal)
A10: Bevestiging | B10: Beschrijf de manier waarop het materiaal bevestigd is en beschrijf eventueel het type buitenschrijnwerk en het type dichtingsvoeg
A11: Impact hoogwaardige | B11: Recycled content in nieuw product* | E11: CO2-besparing**
A12: recyclage | C12: =VLOOKUP(B1,'info sheet recyclagefiches'!A:I,7,FALSE) -> ●●○○ | F12: =VLOOKUP(B1,'info sheet recyclagefiches'!A:J,8,FALSE) -> ●●○○
A13: Potentiële afzetkanalen & acceptatiecriteria | B13: Een overzicht van afzetkanalen voor de recyclage van bouw- en sloopafval samen met acceptatiecriteria van de verwerkers en/of producenten is te vinden op https://www.bouwensloopafval.be/
A14: Opmerkingen | B14: =VLOOKUP(B1,'info sheet recyclagefiches'!A:L,10,FALSE) -> Glas demonteren uit kaders. Verzamelen in (gesloten) containers zonder vervuiling. Niet alle types glas worden bij elke verwerker geaccepteerd.
A15: Gevaarlijke stoffen | B15: Let op voor: | C15: =VLOOKUP(B1,'info sheet recyclagefiches'!A:N,11,FALSE) -> Asbesthoudende mastiek | F15: Kies een item.
A16: Andere | B16: Optioneel advies met betrekking tot: werf, materiaal, werkwijze, transport, stockage, risico's,...
A17: Eigenaar materiaal | B17: Geef de volledige naam van de eigenaar van het materiaal
A18: Contact | B18: Geef de contactgegevens van de eigenaar van het materiaal (email/gsm)
A19: Datum opmaak | B19: Vermeld de datum van opmaak fiche
A20: Vermoedelijke start werken | B20: Indien gekend, geef de vermoedelijke datum start der werken
A21: Opmerkingen van de sloper | B21: Optionele opmerkingen van de sloper kunnen hier worden toegevoegd
A24: *Recycled content (in %: 1-25, 25-50, 50-75, 75-100) en de CO₂-besparing (in kg CO₂ per ton gerecycled materiaal: 10-100, 100-1000, 1000-5000, 5000+) zijn naar best vermogen ingeschat op basis van input van diverse materiaalproducenten
A26: DISCLAIMER: De informatie die wordt aangeboden is gebaseerd op verschillende bronnen en naar best vermogen en zo accuraat mogelijk voorgesteld. De vermelde hoeveelheden zijn indicatief en vormen een eerste inschatting. Het is steeds mogelijk dat er door wijzigende omstandigheden fouten in de informatie zijn geslopen. Tracimat kan hiervoor niet verantwoordelijk worden gesteld.

Sheet RF gips
A1: RECYCLAGEFICHE | B1: Gipshoudende materialen | G1: RFX
A2: Project | B2: Naam
B3: Adres
B4: Postcode Gemeente
A5: #VALUE! | B5: Foto's materiaal in situ
A6: Materiaal | B6: =VLOOKUP(B1,'info sheet recyclagefiches'!A:G,6,FALSE) -> Gipshoudende materialen: gipsblokken en -platen | F6: EURALcode | G6: =VLOOKUP(B1,'info sheet recyclagefiches'!A:E,4,FALSE) -> 17 08 02
A7: Toepassing | B7: Beschrijf de toepassing van het materiaal (functie, grootte, vorm, kleur, staat,…)
A8: Materiaal info | B8: Aantal | C8: aantal | D8: eenheid | E8: Gewicht | F8: gewicht | G8: ton
A9: Plaatsbepaling | B9: Beschrijf éénduidig de locatie(s) van het materiaal met hoogwaardig recyclagepotentieel (gebouw, verdieping, lokaal)
A10: Bevestiging | B10: Beschrijf de manier waarop het materiaal bevestigd is (losliggend, verlijmd, vernageld, geschroefd, gecementeerd,…)
A11: Impact hoogwaardige | B11: Recycled content in nieuw product* | E11: CO2-besparing**
A12: recyclage | C12: =VLOOKUP(B1,'info sheet recyclagefiches'!A:I,7,FALSE) -> ●●○○ | F12: =VLOOKUP(B1,'info sheet recyclagefiches'!A:J,8,FALSE) -> ●●○○
A13: Potentiële afzetkanalen & acceptatiecriteria | B13: Een overzicht van afzetkanalen voor de recyclage van bouw- en sloopafval samen met acceptatiecriteria van de verwerkers en/of producenten is te vinden op https://www.bouwensloopafval.be/
A14: Opmerkingen | B14: =VLOOKUP(B1,'info sheet recyclagefiches'!A:L,10,FALSE) -> Geen cellenbeton, gipsplaten met paardenhaar, isolatiemateriaal, aluminium of lood. Geen gipspleister uit sloop.
A15: Gevaarlijke stoffen | B15: Let op voor: | C15: =VLOOKUP(B1,'info sheet recyclagefiches'!A:N,11,FALSE) -> Asbest | F15: Kies een item.
A16: Andere | B16: Optioneel advies met betrekking tot: werf, materiaal, werkwijze, transport, stockage, risico's,...
A17: Eigenaar materiaal | B17: Geef de volledige naam van de eigenaar van het materiaal
A18: Contact | B18: Geef de contactgegevens van de eigenaar van het materiaal (email/gsm)
A19: Datum opmaak | B19: Vermeld de datum van opmaak fiche
A20: Vermoedelijke start werken | B20: Indien gekend, geef de vermoedelijke datum start der werken
A21: Opmerkingen van de sloper | B21: Optionele opmerkingen van de sloper kunnen hier worden toegevoegd
A24: *Recycled content (in %: 1-25, 25-50, 50-75, 75-100) en de CO₂-besparing (in kg CO₂ per ton gerecycled materiaal: 10-100, 100-1000, 1000-5000, 5000+) zijn naar best vermogen ingeschat op basis van input van diverse materiaalproducenten
A26: DISCLAIMER: De informatie die wordt aangeboden is gebaseerd op verschillende bronnen en naar best vermogen en zo accuraat mogelijk voorgesteld. De vermelde hoeveelheden zijn indicatief en vormen een eerste inschatting. Het is steeds mogelijk dat er door wijzigende omstandigheden fouten in de informatie zijn geslopen. Tracimat kan hiervoor niet verantwoordelijk worden gesteld.

Sheet RF hout
A1: RECYCLAGEFICHE | B1: Hout | G1: RFX
A2: Project | B2: Naam
B3: Adres
B4: Postcode Gemeente
A5: #VALUE! | B5: Foto's materiaal in situ
A6: Materiaal | B6: =VLOOKUP(B1,'info sheet recyclagefiches'!A:G,6,FALSE) -> Hout: onbehandeld hout (A) en behandeld hout (B) | F6: EURALcode | G6: =VLOOKUP(B1,'info sheet recyclagefiches'!A:E,4,FALSE) -> 17 02 01
A7: Toepassing | B7: Beschrijf de toepassing van het materiaal (functie, grootte, vorm, staat,…)
A8: Materiaal info | B8: Aantal | C8: aantal | D8: eenheid | E8: Gewicht | F8: gewicht | G8: ton
A9: Plaatsbepaling | B9: Beschrijf éénduidig de locatie(s) van het materiaal met hoogwaardig recyclagepotentieel (gebouw, verdieping, lokaal)
A10: Bevestiging | B10: Beschrijf de manier waarop het materiaal bevestigd is (losliggend, verlijmd, vernageld, geschroefd, gecementeerd,…)
A11: Impact hoogwaardige | B11: Recycled content in nieuw product* | E11: CO2-besparing**
A12: recyclage | C12: =VLOOKUP(B1,'info sheet recyclagefiches'!A:I,7,FALSE) -> ●●●● | F12: =VLOOKUP(B1,'info sheet recyclagefiches'!A:J,8,FALSE) -> ●●●○
A13: Potentiële afzetkanalen & acceptatiecriteria | B13: Een overzicht van afzetkanalen voor de recyclage van bouw- en sloopafval samen met acceptatiecriteria van de verwerkers en/of producenten is te vinden op https://www.bouwensloopafval.be/
A14: Opmerkingen | B14: =VLOOKUP(B1,'info sheet recyclagefiches'!A:L,10,FALSE) -> Nagels toegestaan. Geen rot of verbrand hout, tropisch hardhout, bamboe, MDF, bekistingsmateriaal,…
A15: Gevaarlijke stoffen | B15: Let op voor: | C15: =VLOOKUP(B1,'info sheet recyclagefiches'!A:N,11,FALSE) -> C-hout | F15: Kies een item.
A16: Andere | B16: Optioneel advies met betrekking tot: werf, materiaal, werkwijze, transport, stockage, risico's,...
A17: Eigenaar materiaal | B17: Geef de volledige naam van de eigenaar van het materiaal
A18: Contact | B18: Geef de contactgegevens van de eigenaar van het materiaal (email/gsm)
A19: Datum opmaak | B19: Vermeld de datum van opmaak fiche
A20: Vermoedelijke start werken | B20: Indien gekend, geef de vermoedelijke datum start der werken
A21: Opmerkingen van de sloper | B21: Optionele opmerkingen van de sloper kunnen hier worden toegevoegd
A24: *Recycled content (in %: 1-25, 25-50, 50-75, 75-100) en de CO₂-besparing (in kg CO₂ per ton gerecycled materiaal: 10-100, 100-1000, 1000-5000, 5000+) zijn naar best vermogen ingeschat op basis van input van diverse materiaalproducenten
A26: DISCLAIMER: De informatie die wordt aangeboden is gebaseerd op verschillende bronnen en naar best vermogen en zo accuraat mogelijk voorgesteld. De vermelde hoeveelheden zijn indicatief en vormen een eerste inschatting. Het is steeds mogelijk dat er door wijzigende omstandigheden fouten in de informatie zijn geslopen. Tracimat kan hiervoor niet verantwoordelijk worden gesteld.

Sheet RF glaswol
A1: RECYCLAGEFICHE | B1: Minerale isolatie: Glaswol | G1: RFX
A2: Project | B2: Naam
B3: Adres
B4: Postcode Gemeente
A5: #VALUE! | B5: Foto's materiaal in situ
A6: Materiaal | B6: =VLOOKUP(B1,'info sheet recyclagefiches'!A:G,6,FALSE) -> Isolatiemateriaal: mineraal: glaswol | F6: EURALcode | G6: =VLOOKUP(B1,'info sheet recyclagefiches'!A:E,4,FALSE) -> 17 06 04
A7: Toepassing | B7: Beschrijf de toepassing van het materiaal (functie, grootte, vorm, kleur, staat,…)
A8: Materiaal info | B8: Aantal | C8: aantal | D8: eenheid | E8: Gewicht | F8: gewicht | G8: ton
A9: Plaatsbepaling | B9: Beschrijf éénduidig de locatie(s) van het materiaal met hoogwaardig recyclagepotentieel (gebouw, verdieping, lokaal)
A10: Bevestiging | B10: Beschrijf de manier waarop het materiaal bevestigd is (losliggend, verlijmd, vernageld, geschroefd, gecementeerd,…)
A11: Impact hoogwaardige | B11: Recycled content in nieuw product* | E11: CO2-besparing**
A12: recyclage | C12: =VLOOKUP(B1,'info sheet recyclagefiches'!A:I,7,FALSE) -> ●○○○ | F12: =VLOOKUP(B1,'info sheet recyclagefiches'!A:J,8,FALSE) -> ●○○○
A13: Potentiële afzetkanalen & acceptatiecriteria | B13: Een overzicht van afzetkanalen voor de recyclage van bouw- en sloopafval samen met acceptatiecriteria van de verwerkers en/of producenten is te vinden op https://www.bouwensloopafval.be/
A14: Opmerkingen | B14: =VLOOKUP(B1,'info sheet recyclagefiches'!A:L,10,FALSE) -> Geen glaswolvreemde, stoffige, inerte of vloeibare materialen. Droog bewaren. Voor transport over lange afstanden wol persen (balen of perscontainer).
A15: Gevaarlijke stoffen | B15: Let op voor: | C15: =VLOOKUP(B1,'info sheet recyclagefiches'!A:N,11,FALSE) -> / | F15: n.v.t.
A16: Andere | B16: Optioneel advies met betrekking tot: werf, materiaal, werkwijze, transport, stockage, risico's,...
A17: Eigenaar materiaal | B17: Geef de volledige naam van de eigenaar van het materiaal
A18: Contact | B18: Geef de contactgegevens van de eigenaar van het materiaal (email/gsm)
A19: Datum opmaak | B19: Vermeld de datum van opmaak fiche
A20: Vermoedelijke start werken | B20: Indien gekend, geef de vermoedelijke datum start der werken
A21: Opmerkingen van de sloper | B21: Optionele opmerkingen van de sloper kunnen hier worden toegevoegd
A24: *Recycled content (in %: 1-25, 25-50, 50-75, 75-100) en de CO₂-besparing (in kg CO₂ per ton gerecycled materiaal: 10-100, 100-1000, 1000-5000, 5000+) zijn naar best vermogen ingeschat op basis van input van diverse materiaalproducenten
A26: DISCLAIMER: De informatie die wordt aangeboden is gebaseerd op verschillende bronnen en naar best vermogen en zo accuraat mogelijk voorgesteld. De vermelde hoeveelheden zijn indicatief en vormen een eerste inschatting. Het is steeds mogelijk dat er door wijzigende omstandigheden fouten in de informatie zijn geslopen. Tracimat kan hiervoor niet verantwoordelijk worden gesteld.

Sheet RF aluminium
A1: RECYCLAGEFICHE | B1: Aluminium buitenschrijnwerk | G1: RFX
A2: Project | B2: Naam
B3: Adres
B4: Postcode Gemeente
A5: #VALUE! | B5: Foto's materiaal in situ
A6: Materiaal | B6: =VLOOKUP(B1,'info sheet recyclagefiches'!A:G,6,FALSE) -> Metaal: aluminium: buitenschrijnwerk | F6: EURALcode | G6: =VLOOKUP(B1,'info sheet recyclagefiches'!A:E,4,FALSE) -> 17 04 02
A7: Toepassing | B7: Beschrijf de toepassing van het materiaal (functie, grootte, kleur, staat, thermisch onderbroken…)
A8: Materiaal info | B8: Aantal | C8: aantal | D8: eenheid | E8: Gewicht | F8: gewicht | G8: ton
A9: Plaatsbepaling | B9: Beschrijf éénduidig de locatie(s) van het materiaal met hoogwaardig recyclagepotentieel (gebouw, verdieping, lokaal)
A10: Bevestiging | B10: Beschrijf de manier waarop het materiaal bevestigd is (losliggend, verlijmd, vernageld, geschroefd, gecementeerd,…) en eventueel type dichtingsvoeg
A11: Impact hoogwaardige | B11: Recycled content in nieuw product* | E11: CO2-besparing**
A12: recyclage | C12: =VLOOKUP(B1,'info sheet recyclagefiches'!A:I,7,FALSE) -> ●●●● | F12: =VLOOKUP(B1,'info sheet recyclagefiches'!A:J,8,FALSE) -> ●●●●
A13: Potentiële afzetkanalen & acceptatiecriteria | B13: Een overzicht van afzetkanalen voor de recyclage van bouw- en sloopafval samen met acceptatiecriteria van de verwerkers en/of producenten is te vinden op https://www.bouwensloopafval.be/
A14: Opmerkingen | B14: =VLOOKUP(B1,'info sheet recyclagefiches'!A:L,10,FALSE) -> Buitenschrijnwerk ontdoen van glas en isolatie. Thermisch onderbroken profielen apart inzamelen. Geen stoorstoffen zoals cement, hout, isolatie,…
A15: Gevaarlijke stoffen | B15: Let op voor: | C15: =VLOOKUP(B1,'info sheet recyclagefiches'!A:N,11,FALSE) -> Asbesthoudende mastiek | F15: Kies een item.
A16: Andere | B16: Optioneel advies met betrekking tot: werf, materiaal, werkwijze, transport, stockage, risico's,...
A17: Eigenaar materiaal | B17: Geef de volledige naam van de eigenaar van het materiaal
A18: Contact | B18: Geef de contactgegevens van de eigenaar van het materiaal (email/gsm)
A19: Datum opmaak | B19: Vermeld de datum van opmaak fiche
A20: Vermoedelijke start werken | B20: Indien gekend, geef de vermoedelijke datum start der werken
A21: Opmerkingen van de sloper | B21: Optionele opmerkingen van de sloper kunnen hier worden toegevoegd
A24: *Recycled content (in %: 1-25, 25-50, 50-75, 75-100) en de CO₂-besparing (in kg CO₂ per ton gerecycled materiaal: 10-100, 100-1000, 1000-5000, 5000+) zijn naar best vermogen ingeschat op basis van input van diverse materiaalproducenten
A26: DISCLAIMER: De informatie die wordt aangeboden is gebaseerd op verschillende bronnen en naar best vermogen en zo accuraat mogelijk voorgesteld. De vermelde hoeveelheden zijn indicatief en vormen een eerste inschatting. Het is steeds mogelijk dat er door wijzigende omstandigheden fouten in de informatie zijn geslopen. Tracimat kan hiervoor niet verantwoordelijk worden gesteld.

Sheet RF PVC
A1: RECYCLAGEFICHE | B1: PVC buitenschrijnwerk | G1: RFX
A2: Project | B2: Naam
B3: Adres
B4: Postcode Gemeente
A5: #VALUE! | B5: Foto's materiaal in situ
A6: Materiaal | B6: =VLOOKUP(B1,'info sheet recyclagefiches'!A:G,6,FALSE) -> Kunststoffen: harde PVC: buitenschrijnwerk | F6: EURALcode | G6: =VLOOKUP(B1,'info sheet recyclagefiches'!A:E,4,FALSE) -> 17 02 03
A7: Toepassing | B7: Beschrijf de toepassing van het materiaal (functie, grootte, kleur, staat,…)
A8: Materiaal info | B8: Aantal | C8: aantal | D8: eenheid | E8: Gewicht | F8: gewicht | G8: ton
A9: Plaatsbepaling | B9: Beschrijf éénduidig de locatie(s) van het materiaal met hoogwaardig recyclagepotentieel (gebouw, verdieping, lokaal)
A10: Bevestiging | B10: Beschrijf de manier waarop het materiaal bevestigd is (losliggend, verlijmd, vernageld, geschroefd, gecementeerd,…) en eventueel type dichtingsvoeg
A11: Impact hoogwaardige | B11: Recycled content in nieuw product* | E11: CO2-besparing**
A12: recyclage | C12: =VLOOKUP(B1,'info sheet recyclagefiches'!A:I,7,FALSE) -> ●●○○ | F12: =VLOOKUP(B1,'info sheet recyclagefiches'!A:J,8,FALSE) -> ●●●○
A13: Potentiële afzetkanalen & acceptatiecriteria | B13: Een overzicht van afzetkanalen voor de recyclage van bouw- en sloopafval samen met acceptatiecriteria van de verwerkers en/of producenten is te vinden op https://www.bouwensloopafval.be/
A14: Opmerkingen | B14: =VLOOKUP(B1,'info sheet recyclagefiches'!A:L,10,FALSE) -> Buitenschrijnwerk ontdoen van glas en isolatie. Geen bevuiling met zand of modder.
A15: Gevaarlijke stoffen | B15: Let op voor: | C15: =VLOOKUP(B1,'info sheet recyclagefiches'!A:N,11,FALSE) -> Asbesthoudende mastiek | F15: Kies een item.
A16: Andere | B16: Optioneel advies met betrekking tot: werf, materiaal, werkwijze, transport, stockage, risico's,...
A17: Eigenaar materiaal | B17: Geef de volledige naam van de eigenaar van het materiaal
A18: Contact | B18: Geef de contactgegevens van de eigenaar van het materiaal (email/gsm)
A19: Datum opmaak | B19: Vermeld de datum van opmaak fiche
A20: Vermoedelijke start werken | B20: Indien gekend, geef de vermoedelijke datum start der werken
A21: Opmerkingen van de sloper | B21: Optionele opmerkingen van de sloper kunnen hier worden toegevoegd
A24: *Recycled content (in %: 1-25, 25-50, 50-75, 75-100) en de CO₂-besparing (in kg CO₂ per ton gerecycled materiaal: 10-100, 100-1000, 1000-5000, 5000+) zijn naar best vermogen ingeschat op basis van input van diverse materiaalproducenten
A26: DISCLAIMER: De informatie die wordt aangeboden is gebaseerd op verschillende bronnen en naar best vermogen en zo accuraat mogelijk voorgesteld. De vermelde hoeveelheden zijn indicatief en vormen een eerste inschatting. Het is steeds mogelijk dat er door wijzigende omstandigheden fouten in de informatie zijn geslopen. Tracimat kan hiervoor niet verantwoordelijk worden gesteld.

Sheet RF rotswol
A1: RECYCLAGEFICHE | B1: Minerale isolatie: Rotswol | G1: RFX
A2: Project | B2: Naam
B3: Adres
B4: Postcode Gemeente
A5: #VALUE! | B5: Foto's materiaal in situ
A6: Materiaal | B6: =VLOOKUP(B1,'info sheet recyclagefiches'!A:G,6,FALSE) -> Isolatiemateriaal: mineraal: rotswol | F6: EURALcode | G6: =VLOOKUP(B1,'info sheet recyclagefiches'!A:E,4,FALSE) -> 17 06 04
A7: Toepassing | B7: Beschrijf de toepassing van het materiaal (functie, grootte, vorm, staat,…)
A8: Materiaal info | B8: Aantal | C8: aantal | D8: eenheid | E8: Gewicht | F8: gewicht | G8: ton
A9: Plaatsbepaling | B9: Beschrijf éénduidig de locatie(s) van het materiaal met hoogwaardig recyclagepotentieel (gebouw, verdieping, lokaal)
A10: Bevestiging | B10: Beschrijf de manier waarop het materiaal bevestigd is (losliggend, verlijmd, vernageld, geschroefd, gecementeerd,…)
A11: Impact hoogwaardige | B11: Recycled content in nieuw product* | E11: CO2-besparing**
A12: recyclage | C12: =VLOOKUP(B1,'info sheet recyclagefiches'!A:I,7,FALSE) -> ●●○○ | F12: =VLOOKUP(B1,'info sheet recyclagefiches'!A:J,8,FALSE) -> ●○○○
A13: Potentiële afzetkanalen & acceptatiecriteria | B13: Een overzicht van afzetkanalen voor de recyclage van bouw- en sloopafval samen met acceptatiecriteria van de verwerkers en/of producenten is te vinden op https://www.bouwensloopafval.be/
A14: Opmerkingen | B14: =VLOOKUP(B1,'info sheet recyclagefiches'!A:L,10,FALSE) -> Geen rotswolvreemde, stoffige, inerte of vloeibare materialen. Droog bewaren.
A15: Gevaarlijke stoffen | B15: Let op voor: | C15: =VLOOKUP(B1,'info sheet recyclagefiches'!A:N,11,FALSE) -> / | F15: n.v.t.
A16: Andere | B16: Optioneel advies met betrekking tot: werf, materiaal, werkwijze, transport, stockage, risico's,...
A17: Eigenaar materiaal | B17: Geef de volledige naam van de eigenaar van het materiaal
A18: Contact | B18: Geef de contactgegevens van de eigenaar van het materiaal (email/gsm)
A19: Datum opmaak | B19: Vermeld de datum van opmaak fiche
A20: Vermoedelijke start werken | B20: Indien gekend, geef de vermoedelijke datum start der werken
A21: Opmerkingen van de sloper | B21: Optionele opmerkingen van de sloper kunnen hier worden toegevoegd
A24: *Recycled content (in %: 1-25, 25-50, 50-75, 75-100) en de CO₂-besparing (in kg CO₂ per ton gerecycled materiaal: 10-100, 100-1000, 1000-5000, 5000+) zijn naar best vermogen ingeschat op basis van input van diverse materiaalproducenten
A26: DISCLAIMER: De informatie die wordt aangeboden is gebaseerd op verschillende bronnen en naar best vermogen en zo accuraat mogelijk voorgesteld. De vermelde hoeveelheden zijn indicatief en vormen een eerste inschatting. Het is steeds mogelijk dat er door wijzigende omstandigheden fouten in de informatie zijn geslopen. Tracimat kan hiervoor niet verantwoordelijk worden gesteld.

Sheet RF tapijttegels
A1: RECYCLAGEFICHE | B1: Tapijttegels | G1: RFX
A2: Project | B2: Naam
B3: Adres
B4: Postcode Gemeente
A5: #VALUE! | B5: Foto's materiaal in situ
A6: Materiaal | B6: =VLOOKUP(B1,'info sheet recyclagefiches'!A:G,6,FALSE) -> Textiel: vloerbedekking | F6: EURALcode | G6: =VLOOKUP(B1,'info sheet recyclagefiches'!A:E,4,FALSE) -> 20 01 11
A7: Toepassing | B7: Beschrijf de toepassing van het materiaal (functie, grootte, vorm, kleur, staat…) Geef indien gekend de productinformatie vermeld op de achterzijde
A8: Materiaal info | B8: Aantal | C8: aantal | D8: eenheid | E8: Gewicht | F8: gewicht | G8: ton
A9: Plaatsbepaling | B9: Beschrijf éénduidig de locatie(s) van het materiaal met hoogwaardig recyclagepotentieel (gebouw, verdieping, lokaal)
A10: Bevestiging | B10: Beschrijf de manier waarop het materiaal bevestigd is (losliggend, verlijmd, vernageld, geschroefd, gecementeerd,…) en eventueel de ondervloer
A11: Impact hoogwaardige | B11: Recycled content in nieuw product* | E11: CO2-besparing**
A12: recyclage | C12: =VLOOKUP(B1,'info sheet recyclagefiches'!A:I,7,FALSE) -> ●●●● | F12: =VLOOKUP(B1,'info sheet recyclagefiches'!A:J,8,FALSE) -> ●●●○
A13: Potentiële afzetkanalen & acceptatiecriteria | B13: Een overzicht van afzetkanalen voor de recyclage van bouw- en sloopafval samen met acceptatiecriteria van de verwerkers en/of producenten is te vinden op https://www.bouwensloopafval.be/
A14: Opmerkingen | B14: =VLOOKUP(B1,'info sheet recyclagefiches'!A:L,10,FALSE) -> Geen vast verlijmde tapijttegels. Vermijd vervuiling. Gestapeld inzamelen.
A15: Gevaarlijke stoffen | B15: Let op voor: | C15: =VLOOKUP(B1,'info sheet recyclagefiches'!A:N,11,FALSE) -> / | F15: n.v.t.
A16: Andere | B16: Optioneel advies met betrekking tot: werf, materiaal, werkwijze, transport, stockage, risico's,...
A17: Eigenaar materiaal | B17: Geef de volledige naam van de eigenaar van het materiaal
A18: Contact | B18: Geef de contactgegevens van de eigenaar van het materiaal (email/gsm)
A19: Datum opmaak | B19: Vermeld de datum van opmaak fiche
A20: Vermoedelijke start werken | B20: Indien gekend, geef de vermoedelijke datum start der werken
A21: Opmerkingen van de sloper | B21: Optionele opmerkingen van de sloper kunnen hier worden toegevoegd
A24: *Recycled content (in %: 1-25, 25-50, 50-75, 75-100) en de CO₂-besparing (in kg CO₂ per ton gerecycled materiaal: 10-100, 100-1000, 1000-5000, 5000+) zijn naar best vermogen ingeschat op basis van input van diverse materiaalproducenten
A26: DISCLAIMER: De informatie die wordt aangeboden is gebaseerd op verschillende bronnen en naar best vermogen en zo accuraat mogelijk voorgesteld. De vermelde hoeveelheden zijn indicatief en vormen een eerste inschatting. Het is steeds mogelijk dat er door wijzigende omstandigheden fouten in de informatie zijn geslopen. Tracimat kan hiervoor niet verantwoordelijk worden gesteld.

Sheet RF vinyl
A1: RECYCLAGEFICHE | B1: Homogene vinyl | G1: RFX
A2: Project | B2: Naam
B3: Adres
B4: Postcode Gemeente
A5: #VALUE! | B5: Foto's materiaal in situ
A6: Materiaal | B6: =VLOOKUP(B1,'info sheet recyclagefiches'!A:G,6,FALSE) -> Kunststoffen: vinyl | F6: EURALcode | G6: =VLOOKUP(B1,'info sheet recyclagefiches'!A:E,4,FALSE) -> 17 02 03
A7: Toepassing | B7: Beschrijf de toepassing van het materiaal (vloer- of wandbekleding, kleur, staat,…)
A8: Materiaal info | B8: Aantal | C8: aantal | D8: eenheid | E8: Gewicht | F8: gewicht | G8: ton
A9: Plaatsbepaling | B9: Beschrijf éénduidig de locatie(s) van het materiaal met hoogwaardig recyclagepotentieel (gebouw, verdieping, lokaal)
A10: Bevestiging | B10: Beschrijf de manier waarop het materiaal bevestigd is (losliggend, verlijmd, vernageld, geschroefd, gecementeerd,…) en eventueel de ondervloer
A11: Impact hoogwaardige | B11: Recycled content in nieuw product* | E11: CO2-besparing**
A12: recyclage | C12: =VLOOKUP(B1,'info sheet recyclagefiches'!A:I,7,FALSE) -> ●●○○ | F12: =VLOOKUP(B1,'info sheet recyclagefiches'!A:J,8,FALSE) -> ●●●○
A13: Potentiële afzetkanalen & acceptatiecriteria | B13: Een overzicht van afzetkanalen voor de recyclage van bouw- en sloopafval samen met acceptatiecriteria van de verwerkers en/of producenten is te vinden op https://www.bouwensloopafval.be/
A14: Opmerkingen | B14: =VLOOKUP(B1,'info sheet recyclagefiches'!A:L,10,FALSE) -> Geen linoleum of heterogeen vinyl uit meerdere lagen. Ontdoen van grove chaperesten. Vinyl te testen op ftalaten (weekmakers) door producent.
A15: Gevaarlijke stoffen | B15: Let op voor: | C15: =VLOOKUP(B1,'info sheet recyclagefiches'!A:N,11,FALSE) -> Asbest | F15: Kies een item.
A16: Andere | B16: Optioneel advies met betrekking tot: werf, materiaal, werkwijze, transport, stockage, risico's,...
A17: Eigenaar materiaal | B17: Geef de volledige naam van de eigenaar van het materiaal
A18: Contact | B18: Geef de contactgegevens van de eigenaar van het materiaal (email/gsm)
A19: Datum opmaak | B19: Vermeld de datum van opmaak fiche
A20: Vermoedelijke start werken | B20: Indien gekend, geef de vermoedelijke datum start der werken
A21: Opmerkingen van de sloper | B21: Optionele opmerkingen van de sloper kunnen hier worden toegevoegd
A24: *Recycled content (in %: 1-25, 25-50, 50-75, 75-100) en de CO₂-besparing (in kg CO₂ per ton gerecycled materiaal: 10-100, 100-1000, 1000-5000, 5000+) zijn naar best vermogen ingeschat op basis van input van diverse materiaalproducenten
A26: DISCLAIMER: De informatie die wordt aangeboden is gebaseerd op verschillende bronnen en naar best vermogen en zo accuraat mogelijk voorgesteld. De vermelde hoeveelheden zijn indicatief en vormen een eerste inschatting. Het is steeds mogelijk dat er door wijzigende omstandigheden fouten in de informatie zijn geslopen. Tracimat kan hiervoor niet verantwoordelijk worden gesteld.

Sheet RF linoleum
A1: RECYCLAGEFICHE | B1: Linoleum | G1: RFX
A2: Project | B2: Naam
B3: Adres
B4: Postcode Gemeente
A5: #VALUE! | B5: Foto's materiaal in situ
A6: Materiaal | B6: =VLOOKUP(B1,'info sheet recyclagefiches'!A:G,6,FALSE) -> Linoleum: vloerbedekking | F6: EURALcode | G6: =VLOOKUP(B1,'info sheet recyclagefiches'!A:E,4,FALSE) -> 17 09 02
A7: Toepassing | B7: Beschrijf de toepassing van het materiaal (functie, grootte, kleur, staat,…)
A8: Materiaal info | B8: Aantal | C8: aantal | D8: eenheid | E8: Gewicht | F8: gewicht | G8: ton
A9: Plaatsbepaling | B9: Beschrijf éénduidig de locatie(s) van het materiaal met hoogwaardig recyclagepotentieel (gebouw, verdieping, lokaal)
A10: Bevestiging | B10: Beschrijf de manier waarop het materiaal bevestigd is (losliggend, verlijmd, vernageld, geschroefd, gecementeerd,…) en eventueel de ondervloer
A11: Impact hoogwaardige | B11: Recycled content in nieuw product* | E11: CO2-besparing**
A12: recyclage | C12: =VLOOKUP(B1,'info sheet recyclagefiches'!A:I,7,FALSE) -> ●●○○ | F12: =VLOOKUP(B1,'info sheet recyclagefiches'!A:J,8,FALSE) -> ●●●○
A13: Potentiële afzetkanalen & acceptatiecriteria | B13: Een overzicht van afzetkanalen voor de recyclage van bouw- en sloopafval samen met acceptatiecriteria van de verwerkers en/of producenten is te vinden op https://www.bouwensloopafval.be/
A14: Opmerkingen | B14: =VLOOKUP(B1,'info sheet recyclagefiches'!A:L,10,FALSE) -> Geen vinyl. Ontdoen van grove chaperesten.
A15: Gevaarlijke stoffen | B15: Let op voor: | C15: =VLOOKUP(B1,'info sheet recyclagefiches'!A:N,11,FALSE) -> Asbesthoudende lijm | F15: Kies een item.
A16: Andere | B16: Optioneel advies met betrekking tot: werf, materiaal, werkwijze, transport, stockage, risico's,...
A17: Eigenaar materiaal | B17: Geef de volledige naam van de eigenaar van het materiaal
A18: Contact | B18: Geef de contactgegevens van de eigenaar van het materiaal (email/gsm)
A19: Datum opmaak | B19: Vermeld de datum van opmaak fiche
A20: Vermoedelijke start werken | B20: Indien gekend, geef de vermoedelijke datum start der werken
A21: Opmerkingen van de sloper | B21: Optionele opmerkingen van de sloper kunnen hier worden toegevoegd
A24: *Recycled content (in %: 1-25, 25-50, 50-75, 75-100) en de CO₂-besparing (in kg CO₂ per ton gerecycled materiaal: 10-100, 100-1000, 1000-5000, 5000+) zijn naar best vermogen ingeschat op basis van input van diverse materiaalproducenten
A26: DISCLAIMER: De informatie die wordt aangeboden is gebaseerd op verschillende bronnen en naar best vermogen en zo accuraat mogelijk voorgesteld. De vermelde hoeveelheden zijn indicatief en vormen een eerste inschatting. Het is steeds mogelijk dat er door wijzigende omstandigheden fouten in de informatie zijn geslopen. Tracimat kan hiervoor niet verantwoordelijk worden gesteld.
